BEGIN:VCALENDAR
VERSION:2.0
PRODID:spatie/icalendar-generator
BEGIN:VEVENT
UID:7113d65efa98c24959da8aca2bc48738-event-revolutionise.com.au
DTSTAMP:20240430T174500Z
SUMMARY:Survivor SAKE Practice
DESCRIPTION:See https://www.clubsake.com/events/232819 for more.
LOCATION:Leschi South Sailboat Moorage
URL:https://www.clubsake.com/events/232819
DTSTART:20240430T174500
DTEND:20240430T194500
END:VEVENT
END:VCALENDAR