BEGIN:VCALENDAR
VERSION:2.0
PRODID:spatie/icalendar-generator
BEGIN:VEVENT
UID:7747327d790b129d7af66eb577e429bc-event-revolutionise.com.au
DTSTAMP:20240507T174500Z
SUMMARY:Survivor SAKE Practice
DESCRIPTION:See https://www.clubsake.com/events/232820 for more.
LOCATION:Leschi South Sailboat Moorage
URL:https://www.clubsake.com/events/232820
DTSTART:20240507T174500
DTEND:20240507T194500
END:VEVENT
END:VCALENDAR